BEGIN:VCALENDAR
VERSION:2.0
PRODID:-//Reimer Gronemeyer - ECPv6.15.20//NONSGML v1.0//EN
CALSCALE:GREGORIAN
METHOD:PUBLISH
X-WR-CALNAME:Reimer Gronemeyer
X-ORIGINAL-URL:https://reimergronemeyer.de
X-WR-CALDESC:Veranstaltungen für Reimer Gronemeyer
REFRESH-INTERVAL;VALUE=DURATION:PT1H
X-Robots-Tag:noindex
X-PUBLISHED-TTL:PT1H
BEGIN:VTIMEZONE
TZID:UTC
BEGIN:STANDARD
TZOFFSETFROM:+0000
TZOFFSETTO:+0000
TZNAME:UTC
DTSTART:20210101T000000
END:STANDARD
END:VTIMEZONE
BEGIN:VEVENT
DTSTART;TZID=UTC:20220930T090000
DTEND;TZID=UTC:20220930T133000
DTSTAMP:20260420T201143
CREATED:20220420T083138Z
LAST-MODIFIED:20220420T083138Z
UID:629-1664528400-1664544600@reimergronemeyer.de
SUMMARY:Demenz und Spiritualität
DESCRIPTION:Internationale Fachtagung Demenz\nSinne\, Genuss und Sinn\nOrt: Vereinshaus Lauterach/Vorarlberg Österreich
URL:https://reimergronemeyer.de/event/demenz-und-spiritualitaet/
CATEGORIES:Vortrag
END:VEVENT
END:VCALENDAR