BEGIN:VCALENDAR
VERSION:2.0
PRODID:-//Reimer Gronemeyer - ECPv6.15.20//NONSGML v1.0//EN
CALSCALE:GREGORIAN
METHOD:PUBLISH
X-WR-CALNAME:Reimer Gronemeyer
X-ORIGINAL-URL:https://reimergronemeyer.de
X-WR-CALDESC:Veranstaltungen für Reimer Gronemeyer
REFRESH-INTERVAL;VALUE=DURATION:PT1H
X-Robots-Tag:noindex
X-PUBLISHED-TTL:PT1H
BEGIN:VTIMEZONE
TZID:UTC
BEGIN:STANDARD
TZOFFSETFROM:+0000
TZOFFSETTO:+0000
TZNAME:UTC
DTSTART:20220101T000000
END:STANDARD
END:VTIMEZONE
BEGIN:VEVENT
DTSTART;TZID=UTC:20230425T101500
DTEND;TZID=UTC:20230425T101500
DTSTAMP:20260420T113749
CREATED:20221220T100219Z
LAST-MODIFIED:20221220T100949Z
UID:712-1682417700-1682417700@reimergronemeyer.de
SUMMARY:Wenn Menschen nicht vorsorgen möchten
DESCRIPTION:Vernetzungsveranstaltung für die Gesundheitliche Vorsorgeplanung für Norddeutschland \nVeranstalter: Hospiz- und Palliativverband Niedersachsen u.a. \nOrt: Hannover\, Hannas-Lilje-Haus
URL:https://reimergronemeyer.de/event/wenn-menschen-nicht-vorsorgen-moechten/
CATEGORIES:Vortrag
END:VEVENT
END:VCALENDAR