BEGIN:VCALENDAR
VERSION:2.0
PRODID:-//Reimer Gronemeyer - ECPv6.15.20//NONSGML v1.0//EN
CALSCALE:GREGORIAN
METHOD:PUBLISH
X-WR-CALNAME:Reimer Gronemeyer
X-ORIGINAL-URL:https://reimergronemeyer.de
X-WR-CALDESC:Veranstaltungen für Reimer Gronemeyer
REFRESH-INTERVAL;VALUE=DURATION:PT1H
X-Robots-Tag:noindex
X-PUBLISHED-TTL:PT1H
BEGIN:VTIMEZONE
TZID:UTC
BEGIN:STANDARD
TZOFFSETFROM:+0000
TZOFFSETTO:+0000
TZNAME:UTC
DTSTART:20220101T000000
END:STANDARD
END:VTIMEZONE
BEGIN:VEVENT
DTSTART;TZID=UTC:20230616T143000
DTEND;TZID=UTC:20230616T143000
DTSTAMP:20260420T090136
CREATED:20221018T110541Z
LAST-MODIFIED:20221018T110541Z
UID:698-1686925800-1686925800@reimergronemeyer.de
SUMMARY:Zum Umgang mit Sterbewünschen
DESCRIPTION:Hospiz- und Palliativtag Eschwege\n\nVeranstalter: Hospiz- und Palliativnetz Werra-Meißner\nOrt: Stadthalle\nWiesenstrasse 1\n37269 Eschwege
URL:https://reimergronemeyer.de/event/zum-umgang-mit-sterbewuenschen/
CATEGORIES:Vortrag
END:VEVENT
END:VCALENDAR