BEGIN:VCALENDAR
VERSION:2.0
PRODID:-//Reimer Gronemeyer - ECPv6.15.20//NONSGML v1.0//EN
CALSCALE:GREGORIAN
METHOD:PUBLISH
X-WR-CALNAME:Reimer Gronemeyer
X-ORIGINAL-URL:https://reimergronemeyer.de
X-WR-CALDESC:Veranstaltungen für Reimer Gronemeyer
REFRESH-INTERVAL;VALUE=DURATION:PT1H
X-Robots-Tag:noindex
X-PUBLISHED-TTL:PT1H
BEGIN:VTIMEZONE
TZID:UTC
BEGIN:STANDARD
TZOFFSETFROM:+0000
TZOFFSETTO:+0000
TZNAME:UTC
DTSTART:20220101T000000
END:STANDARD
END:VTIMEZONE
BEGIN:VEVENT
DTSTART;VALUE=DATE:20230915
DTEND;VALUE=DATE:20230916
DTSTAMP:20260420T045502
CREATED:20221220T100448Z
LAST-MODIFIED:20221220T100448Z
UID:720-1694736000-1694822399@reimergronemeyer.de
SUMMARY:Pflege und Rassismus im Pflegealltag
DESCRIPTION:Kongress: Demenz und Pflege – Personalbedarf in der Pflege – Verschiedene Nationalitäten – ein Pflegeteam? \nVeranstalter: Türkischer Alzheimer Verein e.V. \nOrt: Stadthalle Mühlheim
URL:https://reimergronemeyer.de/event/pflege-und-rassismus-im-pflegealltag/
CATEGORIES:Vortrag
END:VEVENT
END:VCALENDAR