BEGIN:VCALENDAR
VERSION:2.0
PRODID:-//Reimer Gronemeyer - ECPv6.15.20//NONSGML v1.0//EN
CALSCALE:GREGORIAN
METHOD:PUBLISH
X-WR-CALNAME:Reimer Gronemeyer
X-ORIGINAL-URL:https://reimergronemeyer.de
X-WR-CALDESC:Veranstaltungen für Reimer Gronemeyer
REFRESH-INTERVAL;VALUE=DURATION:PT1H
X-Robots-Tag:noindex
X-PUBLISHED-TTL:PT1H
BEGIN:VTIMEZONE
TZID:UTC
BEGIN:STANDARD
TZOFFSETFROM:+0000
TZOFFSETTO:+0000
TZNAME:UTC
DTSTART:20220101T000000
END:STANDARD
END:VTIMEZONE
BEGIN:VEVENT
DTSTART;TZID=UTC:20230920T110000
DTEND;TZID=UTC:20230920T110000
DTSTAMP:20260420T045430
CREATED:20230925T074149Z
LAST-MODIFIED:20230925T074149Z
UID:745-1695207600-1695207600@reimergronemeyer.de
SUMMARY:Dementia and Participation
DESCRIPTION:Im Rahmen der Konferenz „Age and Care 2023“\, Universität Graz\nVeranstalter: Zentrum für interdisziplinäre Alterns- und Care-Forschung\nOrt: RESOWI\, Universität Graz
URL:https://reimergronemeyer.de/event/dementia-and-participation/
CATEGORIES:Vortrag
END:VEVENT
END:VCALENDAR