BEGIN:VCALENDAR
VERSION:2.0
PRODID:-//Reimer Gronemeyer - ECPv6.15.20//NONSGML v1.0//EN
CALSCALE:GREGORIAN
METHOD:PUBLISH
X-ORIGINAL-URL:https://reimergronemeyer.de
X-WR-CALDESC:Veranstaltungen für Reimer Gronemeyer
REFRESH-INTERVAL;VALUE=DURATION:PT1H
X-Robots-Tag:noindex
X-PUBLISHED-TTL:PT1H
BEGIN:VTIMEZONE
TZID:UTC
BEGIN:STANDARD
TZOFFSETFROM:+0000
TZOFFSETTO:+0000
TZNAME:UTC
DTSTART:20220101T000000
END:STANDARD
END:VTIMEZONE
BEGIN:VEVENT
DTSTART;VALUE=DATE:20230926
DTEND;VALUE=DATE:20230927
DTSTAMP:20260420T033337
CREATED:20230528T081939Z
LAST-MODIFIED:20230925T074229Z
UID:730-1695686400-1695772799@reimergronemeyer.de
SUMMARY:Vortrag zum Thema Pflege
DESCRIPTION:Zusammen mit Oliver Schultz\nVeranstalter: VHS Essen
URL:https://reimergronemeyer.de/event/vortrag-zum-thema-pflege/
CATEGORIES:Vortrag
END:VEVENT
END:VCALENDAR