BEGIN:VCALENDAR
VERSION:2.0
PRODID:-//Reimer Gronemeyer - ECPv6.15.20//NONSGML v1.0//EN
CALSCALE:GREGORIAN
METHOD:PUBLISH
X-ORIGINAL-URL:https://reimergronemeyer.de
X-WR-CALDESC:Veranstaltungen für Reimer Gronemeyer
REFRESH-INTERVAL;VALUE=DURATION:PT1H
X-Robots-Tag:noindex
X-PUBLISHED-TTL:PT1H
BEGIN:VTIMEZONE
TZID:UTC
BEGIN:STANDARD
TZOFFSETFROM:+0000
TZOFFSETTO:+0000
TZNAME:UTC
DTSTART:20220101T000000
END:STANDARD
END:VTIMEZONE
BEGIN:VEVENT
DTSTART;VALUE=DATE:20231009
DTEND;VALUE=DATE:20231010
DTSTAMP:20260420T033245
CREATED:20230925T074348Z
LAST-MODIFIED:20230925T074348Z
UID:750-1696809600-1696895999@reimergronemeyer.de
SUMMARY:Ethiopia´s textile industry. A hotspot of social transformation
DESCRIPTION:Universität Leipzig\, Institut für Soziologie\nVeranstalter Prof. Dr. Marian Burchardt und Dr. Florian Stoll \nIm Rahmen der Konferenz: “Work\, Employment and Digitization in the Global South” \nOrt: Research Center Global Dynamics/ Institut für Soziologie\nStrohsackpassage\nNikolaistraße 6-10\n04109 Leipzig
URL:https://reimergronemeyer.de/event/ethiopias-textile-industry-a-hotspot-of-social-transformation/
CATEGORIES:Vortrag
END:VEVENT
END:VCALENDAR