BEGIN:VCALENDAR
VERSION:2.0
PRODID:-//Reimer Gronemeyer - ECPv6.15.20//NONSGML v1.0//EN
CALSCALE:GREGORIAN
METHOD:PUBLISH
X-WR-CALNAME:Reimer Gronemeyer
X-ORIGINAL-URL:https://reimergronemeyer.de
X-WR-CALDESC:Veranstaltungen für Reimer Gronemeyer
REFRESH-INTERVAL;VALUE=DURATION:PT1H
X-Robots-Tag:noindex
X-PUBLISHED-TTL:PT1H
BEGIN:VTIMEZONE
TZID:UTC
BEGIN:STANDARD
TZOFFSETFROM:+0000
TZOFFSETTO:+0000
TZNAME:UTC
DTSTART:20220101T000000
END:STANDARD
END:VTIMEZONE
BEGIN:VEVENT
DTSTART;TZID=UTC:20231013T180000
DTEND;TZID=UTC:20231013T180000
DTSTAMP:20260420T032827
CREATED:20230528T082043Z
LAST-MODIFIED:20230528T082325Z
UID:734-1697220000-1697220000@reimergronemeyer.de
SUMMARY:Vortrag: Zukunft der Hospizarbeit
DESCRIPTION:Veranstalter: Hospiz Bad Kreuznach\nOrt: Luthersaal\nRingstrasse 64\nBad Kreuznach
URL:https://reimergronemeyer.de/event/vortrag-zukunft-der-hospizarbeit/
CATEGORIES:Vortrag
END:VEVENT
BEGIN:VEVENT
DTSTART;TZID=UTC:20231013T180000
DTEND;TZID=UTC:20231013T180000
DTSTAMP:20260420T032827
CREATED:20230925T074519Z
LAST-MODIFIED:20230925T074519Z
UID:754-1697220000-1697220000@reimergronemeyer.de
SUMMARY:Zukunft der Hospizarbeit
DESCRIPTION:Veranstalter: Hospiz Bad Kreuznach\nOrt: Luthersaal\nRingstrasse 64\nBad Kreuznach
URL:https://reimergronemeyer.de/event/zukunft-der-hospizarbeit/
CATEGORIES:Vortrag
END:VEVENT
END:VCALENDAR