BEGIN:VCALENDAR
VERSION:2.0
PRODID:-//Reimer Gronemeyer - ECPv6.15.20//NONSGML v1.0//EN
CALSCALE:GREGORIAN
METHOD:PUBLISH
X-ORIGINAL-URL:https://reimergronemeyer.de
X-WR-CALDESC:Veranstaltungen für Reimer Gronemeyer
REFRESH-INTERVAL;VALUE=DURATION:PT1H
X-Robots-Tag:noindex
X-PUBLISHED-TTL:PT1H
BEGIN:VTIMEZONE
TZID:UTC
BEGIN:STANDARD
TZOFFSETFROM:+0000
TZOFFSETTO:+0000
TZNAME:UTC
DTSTART:20220101T000000
END:STANDARD
END:VTIMEZONE
BEGIN:VEVENT
DTSTART;VALUE=DATE:20231116
DTEND;VALUE=DATE:20231117
DTSTAMP:20260420T020050
CREATED:20230925T074720Z
LAST-MODIFIED:20230925T074720Z
UID:760-1700092800-1700179199@reimergronemeyer.de
SUMMARY:Vortrag und Podiumsdiskussion zur Pflegekrise
DESCRIPTION:Veranstalter: Arbeitsgemeinschaft Altenheime (AHA)\nOrt: Landkreisgebäude des LK Hildesheim
URL:https://reimergronemeyer.de/event/vortrag-und-podiumsdiskussion-zur-pflegekrise/
CATEGORIES:Vortrag
END:VEVENT
END:VCALENDAR