BEGIN:VCALENDAR
VERSION:2.0
PRODID:-//Reimer Gronemeyer - ECPv6.15.20//NONSGML v1.0//EN
CALSCALE:GREGORIAN
METHOD:PUBLISH
X-ORIGINAL-URL:https://reimergronemeyer.de
X-WR-CALDESC:Veranstaltungen für Reimer Gronemeyer
REFRESH-INTERVAL;VALUE=DURATION:PT1H
X-Robots-Tag:noindex
X-PUBLISHED-TTL:PT1H
BEGIN:VTIMEZONE
TZID:UTC
BEGIN:STANDARD
TZOFFSETFROM:+0000
TZOFFSETTO:+0000
TZNAME:UTC
DTSTART:20220101T000000
END:STANDARD
END:VTIMEZONE
BEGIN:VEVENT
DTSTART;TZID=UTC:20231122T190000
DTEND;TZID=UTC:20231122T190000
DTSTAMP:20260420T015928
CREATED:20230925T074753Z
LAST-MODIFIED:20230925T074753Z
UID:762-1700679600-1700679600@reimergronemeyer.de
SUMMARY:Wird die Kirche noch gebraucht? Vom Aufbruch in der Krise
DESCRIPTION:Jahresempfang des Dekanats Gießen und des Diakonischen Werkes  Gießen\nOrt: Johanneskirche Gießen
URL:https://reimergronemeyer.de/event/wird-die-kirche-noch-gebraucht-vom-aufbruch-in-der-krise/
CATEGORIES:Vortrag
END:VEVENT
END:VCALENDAR