BEGIN:VCALENDAR
VERSION:2.0
PRODID:-//Reimer Gronemeyer - ECPv6.15.20//NONSGML v1.0//EN
CALSCALE:GREGORIAN
METHOD:PUBLISH
X-WR-CALNAME:Reimer Gronemeyer
X-ORIGINAL-URL:https://reimergronemeyer.de
X-WR-CALDESC:Veranstaltungen für Reimer Gronemeyer
REFRESH-INTERVAL;VALUE=DURATION:PT1H
X-Robots-Tag:noindex
X-PUBLISHED-TTL:PT1H
BEGIN:VTIMEZONE
TZID:UTC
BEGIN:STANDARD
TZOFFSETFROM:+0000
TZOFFSETTO:+0000
TZNAME:UTC
DTSTART:20230101T000000
END:STANDARD
END:VTIMEZONE
BEGIN:VEVENT
DTSTART;VALUE=DATE:20240529
DTEND;VALUE=DATE:20240602
DTSTAMP:20260419T160215
CREATED:20240213T082444Z
LAST-MODIFIED:20240213T082444Z
UID:790-1716940800-1717286399@reimergronemeyer.de
SUMMARY:1. Demut und 2. Einführungsseminar
DESCRIPTION:Veranstalter: 42. Goldegger Dialoge\nOrt: Schloss Goldegg\nGoldegg\nÖsterreich
URL:https://reimergronemeyer.de/event/1-demut-und-2-einfuehrungsseminar/
CATEGORIES:Vortrag
END:VEVENT
END:VCALENDAR