BEGIN:VCALENDAR
VERSION:2.0
PRODID:-//Reimer Gronemeyer - ECPv6.15.20//NONSGML v1.0//EN
CALSCALE:GREGORIAN
METHOD:PUBLISH
X-ORIGINAL-URL:https://reimergronemeyer.de
X-WR-CALDESC:Veranstaltungen für Reimer Gronemeyer
REFRESH-INTERVAL;VALUE=DURATION:PT1H
X-Robots-Tag:noindex
X-PUBLISHED-TTL:PT1H
BEGIN:VTIMEZONE
TZID:UTC
BEGIN:STANDARD
TZOFFSETFROM:+0000
TZOFFSETTO:+0000
TZNAME:UTC
DTSTART:20220101T000000
END:STANDARD
END:VTIMEZONE
BEGIN:VEVENT
DTSTART;TZID=UTC:20230210T191500
DTEND;TZID=UTC:20230210T191500
DTSTAMP:20260420T131240
CREATED:20221220T095949Z
LAST-MODIFIED:20221220T095949Z
UID:704-1676056500-1676056500@reimergronemeyer.de
SUMMARY:Die Schwachen zuerst. Lektionen aus dem Lockdown
DESCRIPTION:Arnoldshainer Hospiztage\n\nOrt: Martin-Niemöller-Haus\, Schmitten
URL:https://reimergronemeyer.de/event/die-schwachen-zuerst-lektionen-aus-dem-lockdown/
CATEGORIES:Vortrag
END:VEVENT
BEGIN:VEVENT
DTSTART;VALUE=DATE:20230222
DTEND;VALUE=DATE:20230223
DTSTAMP:20260420T131240
CREATED:20221220T100022Z
LAST-MODIFIED:20221220T100022Z
UID:706-1677024000-1677110399@reimergronemeyer.de
SUMMARY:Krise und Rettung in der Pflege
DESCRIPTION:Holler Runde (Peter Dürrmann) \nHildesheim
URL:https://reimergronemeyer.de/event/krise-und-rettung-in-der-pflege/
CATEGORIES:Vortrag
END:VEVENT
END:VCALENDAR