BEGIN:VCALENDAR
VERSION:2.0
PRODID:-//Reimer Gronemeyer - ECPv6.15.20//NONSGML v1.0//EN
CALSCALE:GREGORIAN
METHOD:PUBLISH
X-ORIGINAL-URL:https://reimergronemeyer.de
X-WR-CALDESC:Veranstaltungen für Reimer Gronemeyer
REFRESH-INTERVAL;VALUE=DURATION:PT1H
X-Robots-Tag:noindex
X-PUBLISHED-TTL:PT1H
BEGIN:VTIMEZONE
TZID:UTC
BEGIN:STANDARD
TZOFFSETFROM:+0000
TZOFFSETTO:+0000
TZNAME:UTC
DTSTART:20230101T000000
END:STANDARD
END:VTIMEZONE
BEGIN:VEVENT
DTSTART;TZID=UTC:20240320T143000
DTEND;TZID=UTC:20240320T145000
DTSTAMP:20260419T184616
CREATED:20240213T082142Z
LAST-MODIFIED:20240213T082222Z
UID:782-1710945000-1710946200@reimergronemeyer.de
SUMMARY:Warum wir in Deutschland eine Sorgekultur benötigen.
DESCRIPTION:Im Rahmen der Veranstaltung: Regionale Gesundheitsversorgung. \nDigitale Veranstaltung (Gießen) \nAnmeldung:\nhttps://www.transmit.de/geschaeftsbereiche/zentren/akademie/details-zur-veranstaltung/?a_id=272
URL:https://reimergronemeyer.de/event/warum-wir-in-deutschland-eine-sorgekultur-benoetigen/
CATEGORIES:Vortrag
END:VEVENT
BEGIN:VEVENT
DTSTART;TZID=UTC:20240322T113500
DTEND;TZID=UTC:20240322T113500
DTSTAMP:20260419T184616
CREATED:20240213T082307Z
LAST-MODIFIED:20240213T083055Z
UID:786-1711107300-1711107300@reimergronemeyer.de
SUMMARY:Praxisgespräch: Kommunale Sorgekulturen stärken – Wie kann das gelingen?
DESCRIPTION:Zusammen mit Prof. Dr. Andreas Heller (Graz)\nVeranstaltung: Sorgenetz – Eine Region im Dialog\nVeranstalter: Projekt Inklusiver Landkreis \nOrt: Landhaus Klosterwald Lich-Arnsberg
URL:https://reimergronemeyer.de/event/praxisgespraech-kommunale-sorgekulturen-staerken-wie-kann-das-gelingen/
CATEGORIES:Vortrag
END:VEVENT
END:VCALENDAR